BEGIN:VCALENDAR
VERSION:2.0
PRODID:-//OMOL - ECPv5.1.5//NONSGML v1.0//EN
CALSCALE:GREGORIAN
METHOD:PUBLISH
X-WR-CALNAME:OMOL
X-ORIGINAL-URL:https://www.omolmentoringinc.org
X-WR-CALDESC:Events for OMOL
BEGIN:VTIMEZONE
TZID:UTC
BEGIN:STANDARD
TZOFFSETFROM:+0000
TZOFFSETTO:+0000
TZNAME:UTC
DTSTART:20200101T000000
END:STANDARD
END:VTIMEZONE
BEGIN:VEVENT
DTSTART;TZID=UTC:20201222T120000
DTEND;TZID=UTC:20201222T160000
DTSTAMP:20260423T155337
CREATED:20201110T041002Z
LAST-MODIFIED:20201110T044931Z
UID:478-1608638400-1608652800@www.omolmentoringinc.org
SUMMARY:OPERATION WARM LIBRARY PROGRAM
DESCRIPTION:A WARM WELCOME TO THE PRATT LIBRARY!\nOPERATION WARM LIBRARY PROGRAM \nOperation Warm is teaming up with libraries\, community partners\, foundations and corporations across the country to give a brand new coat and a brand new book to each child who participates. This fun program will provide an opportunity to introduce kids and families to all the library branch has to offer beyond books. \nTODDLER thru TEEN SIZES. FIRST COME FIRST SERVED \nwww.operationwarm.org \nAbout Operation Warm\nOperation Warm provides warmth\, confidence and hope to children through the gift of brand new winter coats. We believe a brand new coat is more than a coat. Through serving millions of children in need across North America\, we have seen that a brand new coat offers a child physical and emotional warmth\, confidence to socialize and succeed\, and hope of a brighter future. \n
URL:https://www.omolmentoringinc.org/calendar/operation-warm-library-program/
LOCATION:Enoch Pratt Free Library\, 300 E Patapsco AveBaltimore\, MD 21225\, USA\, 2001 N Wolfe St\, Baltimore\, MD 21213\, MD\, 410\, United States
ATTACH;FMTTYPE=image/png:https://www.omolmentoringinc.org/wp-content/uploads/2020/11/WARM.png
END:VEVENT
END:VCALENDAR